BEGIN:VCALENDAR
VERSION:2.0
PRODID:-//A Class Act NY - ECPv5.6.0//NONSGML v1.0//EN
CALSCALE:GREGORIAN
METHOD:PUBLISH
X-WR-CALNAME:A Class Act NY
X-ORIGINAL-URL:https://aclassactny.com
X-WR-CALDESC:Events for A Class Act NY
BEGIN:VTIMEZONE
TZID:America/New_York
BEGIN:DAYLIGHT
TZOFFSETFROM:-0500
TZOFFSETTO:-0400
TZNAME:EDT
DTSTART:20250309T070000
END:DAYLIGHT
BEGIN:STANDARD
TZOFFSETFROM:-0400
TZOFFSETTO:-0500
TZNAME:EST
DTSTART:20251102T060000
END:STANDARD
END:VTIMEZONE
BEGIN:VEVENT
DTSTART;TZID=America/New_York:20250406T170000
DTEND;TZID=America/New_York:20250406T193000
DTSTAMP:20260423T232120
CREATED:20250305T170152Z
LAST-MODIFIED:20250326T171034Z
UID:102720-1743958800-1743967800@aclassactny.com
SUMMARY:Zoom Masterclass with Award-Winning L.A. Casting Director\, Krisha Bullock of Bullock & Snow Casting
DESCRIPTION:No Audition Required | Ages 9-20s (Scenes Split By Age) | Sunday\, Apr. 6 | 5-7:30 PM ET | Cost to Perform 199.00 | Cost to Observe 75.00 \nPERFORMANCE SPOTS SOLD OUT! JOIN THE WAITLIST TO PERFORM or PURCHASE AN OBSERVATION TICKET! \nWork with powerhouse L.A. Based Casting Director\, Krisha Bullock of Bullock & Snow Casting from the comfort of your home! \nKrisha is one of the most influential\, prolific Casting Directors in the industry. She specializes in casting for young audiences\, from hit children’s television shows on kid-friendly networks to feature films and commercials. \nKrisha’s office\, Bullock & Snow Casting\, casts popular Disney\, Paramount+\, Netflix & Nickelodeon TV shows\, pilots & films including the Paramount+ Sitcom\, FAIRLY ODDPARENTS: FAIRLY ODDER\, the popular Nickelodeon series’ SIDE HUSTLE\, DANGER FORCE\, HENRY DANGER\, GAME SHAKERS\, SAM & CAT\, DEGRASSI\, ZOEY 101\, VICTORIOUS\, iCARLY\, TRUE JACKSON\, VP\, DRAKE & JOSH\, ALL THAT\, and many more!  \nKrisha is a recent recipient of the Casting Society of America’s Artios Award for Excellence in Casting for her work on iCARLY. She has also been nominated for this award over a dozen times. Other industry accolades include the prestigious Seymour Heller Award for Television Casting Director of the Year given by the Talent Managers Association. \nKrisha has served as a mentor to countless young actors\, helping them break into the industry. She has guided many up-and-coming actors such as the Oscar-nominated Hailee Steinfeld\, who\, to this very day\, utilizes Krisha’s advice. \nGain invaluable insight into the audition process from one of casting’s most respected in-the-know professionals! \nFocus of Class:\n• Perform scenes for Krisha who will offer notes\, constructive criticism and redirects on your performance\n• Learn what Krisha and other casting pro’s look for in actors\n• Learn how to leave an impression in the audition room\n• Gain exposure to a top L.A. industry insider\n• If time permits\, class concludes in a Q&A for parents and students\n• Receive a short written evaluation with Krisha’s thoughts on your strengths\, and areas where you can improve \nScenes will be distributed a few days before the workshop\, and students will be expected to have them accessible during class. \nWhen: Sunday\, Apr. 6\nAges: 9-20s Scenes Split By Age! (Email us for an Age Exception)\nTime: 5-7:30 PM ET\nCost to Perform: 199.00\nCost to Observe: 75.00 \n*This workshop is a learning experience. It is not an audition or employment opportunity.  \n \n  \nJOIN THE WAITLIST TO PERFORM or PURCHASE AN OBSERVATION TICKET
URL:https://aclassactny.com/programs/zoom-masterclass-with-award-winning-l-a-casting-director-krisha-bullock-of-bullock-snow-casting-3/
LOCATION:Online via Zoom
CATEGORIES:On-Camera Masterclasses,Online Workshops,Virtual One-Day Masterclasses
ATTACH;FMTTYPE=image/jpeg:https://aclassactny.com/wp-content/uploads/2025/03/WP-2025-2.jpg
GEO:40.7127753;-74.0059728
END:VEVENT
END:VCALENDAR