BEGIN:VCALENDAR
VERSION:2.0
PRODID:-//A Class Act NY - ECPv5.6.0//NONSGML v1.0//EN
CALSCALE:GREGORIAN
METHOD:PUBLISH
X-WR-CALNAME:A Class Act NY
X-ORIGINAL-URL:https://aclassactny.com
X-WR-CALDESC:Events for A Class Act NY
BEGIN:VTIMEZONE
TZID:America/New_York
BEGIN:DAYLIGHT
TZOFFSETFROM:-0500
TZOFFSETTO:-0400
TZNAME:EDT
DTSTART:20180311T070000
END:DAYLIGHT
BEGIN:STANDARD
TZOFFSETFROM:-0400
TZOFFSETTO:-0500
TZNAME:EST
DTSTART:20181104T060000
END:STANDARD
END:VTIMEZONE
BEGIN:VEVENT
DTSTART;TZID=America/New_York:20180317T103000
DTEND;TZID=America/New_York:20180317T123000
DTSTAMP:20260421T235733
CREATED:20180131T235018Z
LAST-MODIFIED:20180313T143907Z
UID:61256-1521282600-1521289800@aclassactny.com
SUMMARY:SPONGEBOB Star\, Gaelen Gilliland Teaches SPONGEBOB Workshop
DESCRIPTION:All Skill Levels  |  Ages 7 – adult  |  Saturday\, March 17! \nJoin Broadway Star of SPONGEBOB SQUAREPANTS\, Gaelen Gilliland (HONEYMOON IN VEGAS\, KINKY BOOTS\, 9 TO 5\, LEGALLY BLONDE and WICKED) for a musical theatre SPONGEBOB themed workshop! Learn a song and dance combo from Broadway’s splashiest new hit\, SPONGEBOB SQUAREPANTS\, participate in a Q&A and an autograph and photo session with Gaelen! \nGaelen will also participate in a Q&A and an autograph and photo session! \nFocus of Class:\n• Song and Dance Combo from SPONGEBOB SQUAREPANTS with Gaelen Gilliland\n• Question and Answer Session with Gaelen\n• Autograph and Photos with Gaelen \nDon’t miss your chance to work with a Broadway Star!
URL:https://aclassactny.com/programs/spongebob-star-gaelen-gilliland-teaches-spongebob-workshop/
CATEGORIES:Adult Workshops,Musical Theatre Workshops,One-Day Workshops
ATTACH;FMTTYPE=image/jpeg:https://aclassactny.com/wp-content/uploads/2018/01/42729968486-40329765-10.jpg
END:VEVENT
END:VCALENDAR