BEGIN:VCALENDAR
VERSION:2.0
PRODID:-//A Class Act NY - ECPv5.6.0//NONSGML v1.0//EN
CALSCALE:GREGORIAN
METHOD:PUBLISH
X-WR-CALNAME:A Class Act NY
X-ORIGINAL-URL:https://aclassactny.com
X-WR-CALDESC:Events for A Class Act NY
BEGIN:VTIMEZONE
TZID:America/New_York
BEGIN:DAYLIGHT
TZOFFSETFROM:-0500
TZOFFSETTO:-0400
TZNAME:EDT
DTSTART:20230312T070000
END:DAYLIGHT
BEGIN:STANDARD
TZOFFSETFROM:-0400
TZOFFSETTO:-0500
TZNAME:EST
DTSTART:20231105T060000
END:STANDARD
END:VTIMEZONE
BEGIN:VEVENT
DTSTART;TZID=America/New_York:20230626T100000
DTEND;TZID=America/New_York:20230630T160000
DTSTAMP:20260423T214408
CREATED:20221108T165203Z
LAST-MODIFIED:20230627T141037Z
UID:99257-1687773600-1688140800@aclassactny.com
SUMMARY:L.A. Disney\, Netflix & Amazon TV Director & Famous On-Set Coach\, Jason Shipman's Sitcom Intensive
DESCRIPTION:No Audition Required | Ages 8-20s (Grouped by Age) | Monday\, June 26 – Friday\, June 30 | 10 AM – 4 PM | Cost 1050.00 \nEmail us for an age exception! \nPayment Plans Available – please call our office at 212.315.3010 or email here to set up a payment plan today! \nAll of the scenes used for this class are pulled from actual sitcoms! \nLive out your dreams of starring on a hit TV series with L.A. Director and famous On-Set Acting Coach\, Jason Shipman!  \nJason’s credits include a mind blowing number of projects for DISNEY\, NETFLIX\, AMAZON\, HBO\, NICKELODEON\, APPLE KIDS\, SYFY and UNIVERSAL\, among others.  \nHe recently directed and coached Disney’s newest series\, PRETTY FREAKIN’ SCARY\, which airs June 15th! \nHe made his television directing debut on AMAZON’s hit serial-mystery\, JUST ADD MAGIC which starred ACANY alum\, Kirrilee Berger\, followed by multiple episodes of DISNEY’S Emmy Nominated sitcom\, BUNK’D\, Disney’s longest running series ever!  \nJason also recently coached on APPLE’S Emmy-Nominated GHOST WRITER and their youth series\, CIRCUIT BREAKERS\, as well as HBO’s WESTWORLD\, RESIDENT ALIEN on SyFy\, and multiple sitcoms for the DISNEY CHANNEL. \nOther On-Set coaching credits include BIZAARDVARK\, JESSIE\, DOG WITH A BLOG\, I DIDN’T DO IT\, RICHIE RICH\, THE FRESH BEAT BAND & more!  \nSelected by the Directors Guild of America\, Jason was admitted to their 2020 Director Development Initiative\, where he was identified as an emerging television director to watch.  \n  \nDAY ONE: THE BASICS\, THE BREAKDOWN & THE AUDITION!\nThe week kicks off with a head-first dive into what really defines a sitcom. Students gain a clear understanding of the format\, style and schedule. Learn the crucial process of how to dissect a comedy script and prepare for a role. The day ends with each student’s big audition! \nDAY TWO: WELCOME TO THE SHOW!\nA first-hand simulation of what the first day on a sitcom entails. Students participate in a professional Table Read to learn the importance of this event as well as the Network notes that always follow. Undergo a brief Production Meeting for scenes to see the bigger picture of how decisions are made that can affect the material. The day ends with a rough initial blocking on stage – putting scenes ‘on their feet’. \nDAY THREE: REHEARSAL DAY!\nDay 3 is an intensive on blocking and performance of everyone’s scenes. Students get firsthand insight into how much detail goes into every beat and every decision on set. Learn about the rewrite process as well as the value of the Producer and Network Run-Thru. \nDAY FOUR: BLOCK AND SHOOT DAY!\nStudents become familiar with the various crew positions that help bring a show together and that directly affect their experience on set. Perform scenes in front of the cameras and receive feedback on various takes. \nDAY FIVE: THE LIVE AUDIENCE SHOOT!\nActors present their scenes in front of an audience\, with the other students playing the roles of the crew. Learn the precision involved in putting on a live show\, and gain a full understanding of why the rehearsal week is so vital. The day ends with a Q&A for parents and students. \nWorkshops with TV/Film/VO & Stage Actor\, Alexis Bronkovic (YOUNGER\, FBI\, LAW & ORDER: SVU):\nWork alongside Alexis on improv for the camera\, voice-over\, scene study and dramatic on-camera acting skills throughout the week. \nPayment Plans Available – please call our office at 212.315.3010 or email here to set up a payment plan today! \nEarly Drop Off and Late Pick Up Options are Available! Email us for more information! \nAges: 8-20s (Grouped by Age\, Email us for an age exception!)\nTime: 10 AM – 4 PM\nWhen: Monday\, June 26 – Friday\, June 30\nWhere: Pearl Studios – 500 8th Ave\, NYC\nCost: 1050.00 \nTuition includes a free ACANY t-shirt! \n** Superstar session – credits cannot be applied toward this program \n  \nCLICK TO REGISTER
URL:https://aclassactny.com/programs/on-camera-sitcom-intensive-with-l-a-disney-nickelodeon-director/
LOCATION:Pearl Studios\, 500 8th Ave.\, New York\, NY\, NY\, 10018
CATEGORIES:All Skill Level Summer Programs,Musical Theatre Summer Camps,On-Camera & Voice-Over Summer Programs,Summer Programs,Summer Programs
ATTACH;FMTTYPE=image/png:https://aclassactny.com/wp-content/uploads/2022/11/Summer-2023-WP.png
GEO:40.7529813;-73.9925318
X-APPLE-STRUCTURED-LOCATION;VALUE=URI;X-ADDRESS=Pearl Studios 500 8th Ave. New York NY NY 10018;X-APPLE-RADIUS=500;X-TITLE=500 8th Ave.:geo:-73.9925318,40.7529813
END:VEVENT
END:VCALENDAR