BEGIN:VCALENDAR
VERSION:2.0
PRODID:-//A Class Act NY - ECPv5.6.0//NONSGML v1.0//EN
CALSCALE:GREGORIAN
METHOD:PUBLISH
X-WR-CALNAME:A Class Act NY
X-ORIGINAL-URL:https://aclassactny.com
X-WR-CALDESC:Events for A Class Act NY
BEGIN:VTIMEZONE
TZID:America/New_York
BEGIN:DAYLIGHT
TZOFFSETFROM:-0500
TZOFFSETTO:-0400
TZNAME:EDT
DTSTART:20220313T070000
END:DAYLIGHT
BEGIN:STANDARD
TZOFFSETFROM:-0400
TZOFFSETTO:-0500
TZNAME:EST
DTSTART:20221106T060000
END:STANDARD
END:VTIMEZONE
BEGIN:VEVENT
DTSTART;TZID=America/New_York:20220620T190000
DTEND;TZID=America/New_York:20220620T201500
DTSTAMP:20260421T084305
CREATED:20220422T154341Z
LAST-MODIFIED:20220422T185014Z
UID:98282-1655751600-1655756100@aclassactny.com
SUMMARY:Miscast Cabaret to Benefit SAVE THE CHILDREN’s Ukrainian Relief Fund
DESCRIPTION:By Audition or Invite Only | Ages 7-20s | Monday\, June 20 | The Triad Theatre in NYC | Cost: 195.00 (includes 4 tickets to the show and a free\, private Zoom rehearsal) \nDirected by Broadway Star & Playwright\, Lauren “Coco” Cohn (MAMMA MIA!\, FOUND) \nPerformers have the amazing opportunity to perform solos or duets at the historic Triad Theatre in NYC on Monday\, June 20 in an effort to raise money for Save The Children’s Ukrainian Relief Fund. \nSing a song from a musical in which you would NEVER be cast! \nToo old to play Little Orphan Annie\, but LOVE the song “Tomorrow?” Bring it on! \nDo you love “She Used to Be Mine” from WAITRESS\, but could realistically only play Ogie or Dr. Pomatter? Belt it out! \nAre you a girl who connects to “Electricity” from BILLY ELLIOT\, but can only dream of playing Billy? Now’s your chance! \nThe options are endless! Those looking for inspiration can check out the videos from MCC’s annual gala with the same theme starring Broadway’s biggest stars! \nWATCH: Jeremy Jordan singing “Let it Go” from FROZEN or the girls from MEAN GIRLS performing a medley from JERSEY BOYS! \nVideo Audition Instructions: \nSing a musical theatre song either a cappella or with a backing track. Click here for self-tape guidelines and video submission instructions. \nAlready on our advanced student list? \nNo need to audition! Email us for your invite! \nDuets:\nIf you are cast in the cabaret and would like to sing a duet with a friend or sibling\, please contact the office here.  \nRehearsals On Zoom or In-Person:\n45-minute rehearsals take place either via Zoom or in-person in NYC. \n*Zoom rehearsals are free of charge. \n**If you prefer to rehearse in person\, we are offering a very deep discount on private rehearsals with our Broadway Director and Music Director.  \nFor an additional $95\, work with Coco and Jon at our W. 72nd Street Studio. After registration\, you may sign up for a discounted in-person rehearsal.  \nAges: 7-20s\nWhen: Monday\, June 20\nCall Time For Singers: 4 PM\nShow Time: 7 PM\nWhere: The Triad – 158 W. 72nd St.\nCost: 195.00 (includes 4 tickets to the show and a free\, private Zoom rehearsal) \n** There is a 2 drink minimum at the theatre**
URL:https://aclassactny.com/programs/miscast-cabaret-to-benefit-save-the-childrens-ukrainian-relief-fund/
CATEGORIES:Cabarets,Productions & Cabarets
ATTACH;FMTTYPE=image/png:https://aclassactny.com/wp-content/uploads/2022/04/WP-miscat.png
END:VEVENT
END:VCALENDAR