BEGIN:VCALENDAR
VERSION:2.0
PRODID:-//A Class Act NY - ECPv5.6.0//NONSGML v1.0//EN
CALSCALE:GREGORIAN
METHOD:PUBLISH
X-WR-CALNAME:A Class Act NY
X-ORIGINAL-URL:https://aclassactny.com
X-WR-CALDESC:Events for A Class Act NY
BEGIN:VTIMEZONE
TZID:America/New_York
BEGIN:DAYLIGHT
TZOFFSETFROM:-0500
TZOFFSETTO:-0400
TZNAME:EDT
DTSTART:20250309T070000
END:DAYLIGHT
BEGIN:STANDARD
TZOFFSETFROM:-0400
TZOFFSETTO:-0500
TZNAME:EST
DTSTART:20251102T060000
END:STANDARD
END:VTIMEZONE
BEGIN:VEVENT
DTSTART;TZID=America/New_York:20251116T170000
DTEND;TZID=America/New_York:20251116T200000
DTSTAMP:20260423T233641
CREATED:20250911T221330Z
LAST-MODIFIED:20251105T153345Z
UID:103396-1763312400-1763323200@aclassactny.com
SUMMARY:Mega L.A. Disney & Nick Director & Executive Producer\, Jon Rosenbaum’s Zoom Sitcom Workshop (THUNDERMAN’S UNDERCOVER\, ELECTRIC BLOOM\, RAVEN’S HOME\, BUNK’D & Many More!)
DESCRIPTION:No Audition Required | Ages 9-20s (Scenes Split By Age) | Sunday\, Nov. 16 | Cost to Perform 199.00 | Cost to Observe 75.00 \nPERFORMANCE TICKETS SOLD OUT! JOIN THE WAITLIST TO PERFORM or PURCHASE AN OBSERVATION TICKET \nLearn the art of comedic on-camera acting featured on Disney and Nickelodeon from one of the industry’s most in-demand Hollywood Directors and Executive Producers\, Jon Rosenbaum! \nJon is the most celebrated DISNEY & NICKELOLODEON Director in the business having directed both series and pilots\, and even blockbuster films for streaming platforms like NETFLIX! \nJon is also an accomplished Executive Producer. He was even nominated for an EMMY Award! \nJon has a very long list of credits but a few highlights include ELECTRIC BLOOM (Disney)\, FRAGGLE ROCK (several in the franchise for Apple TV)\, THE THUNDERMAN’S UNDERCOVER (Nickelodeon)\, RAVEN’S HOME (Disney)\, BUNK’D (Disney)\, SYDNEY TO THE MAX (Disney)\, KC UNDERCOVER (Disney)\, STUCK IN THE MIDDLE (Director & Co-Executive Producer)\, WOODY WOODPECKER GOES TO CAMP (Director\, and Exec. Producer for NETFLIX)\, JESSIE\, AUSTIN AND ALLY\, and sooo many more! \nJon has even directed alums of our studio including LUKE BUSEY of ELECTRIC BLOOM and BUNK’D\, and RUTH RIGHI who played the title role on SYDNEY TO THE MAX! \nJon is committed to helping actors build the skills\, confidence\, and work ethic they need to arrive on set fully prepared and ready to deliver.  \nFocus of Class:\n• Learn what it takes to be a successful actor on the set of a Disney and Nick show\n• Learn how to analyze a comedic script to bring out the funny i.e. the setup\, the misleads and turns\, and ultimately\, the punchline\n• Character development skills to flesh out a character and bring them to life\n• Rehearse Scenes from Hit Shows Jon has directed\n• Receive Coaching and Redirects from Jon Rosenbaum\n• Learn How to Have a Great Audition \nWhen: Sunday\, Nov. 16\nAges: 9-20s Scenes Split By Age! (Email us for an Age Exception)\nTime: 5-8 PM ET\nCost to Perform: 199.00\nCost to Observe: 75.00 \n** Superstar session – credits cannot be applied toward this program \n  \nJOIN THE WAITLIST TO PERFORM or PURCHASE AN OBSERVATION TICKET
URL:https://aclassactny.com/programs/mega-l-a-disney-nick-director-executive-producer-jon-rosenbaums-zoom-sitcom-workshop-thundermans-undercover-electric-bloom-ravens-home-bunkd-many-more/
LOCATION:Online via Zoom
CATEGORIES:On-Camera Masterclasses,Online Workshops,Virtual One-Day Masterclasses
ATTACH;FMTTYPE=image/jpeg:https://aclassactny.com/wp-content/uploads/2025/09/WP-2025-7.jpg
GEO:40.7127753;-74.0059728
END:VEVENT
END:VCALENDAR