BEGIN:VCALENDAR
VERSION:2.0
PRODID:-//A Class Act NY - ECPv5.6.0//NONSGML v1.0//EN
CALSCALE:GREGORIAN
METHOD:PUBLISH
X-WR-CALNAME:A Class Act NY
X-ORIGINAL-URL:https://aclassactny.com
X-WR-CALDESC:Events for A Class Act NY
BEGIN:VTIMEZONE
TZID:America/New_York
BEGIN:DAYLIGHT
TZOFFSETFROM:-0500
TZOFFSETTO:-0400
TZNAME:EDT
DTSTART:20220313T070000
END:DAYLIGHT
BEGIN:STANDARD
TZOFFSETFROM:-0400
TZOFFSETTO:-0500
TZNAME:EST
DTSTART:20221106T060000
END:STANDARD
END:VTIMEZONE
BEGIN:VEVENT
DTSTART;TZID=America/New_York:20220307T190000
DTEND;TZID=America/New_York:20220307T190000
DTSTAMP:20260424T023834
CREATED:20211110T215526Z
LAST-MODIFIED:20220209T001642Z
UID:96599-1646679600-1646679600@aclassactny.com
SUMMARY:Broadway’s Back Cabaret to Benefit THE ACTORS FUND for COVID-19 Relief
DESCRIPTION:By Audition or Invite Only | Ages 7-20s | Monday\, March 7 | The Triad Theatre in NYC | Tickets 49.00 \nSOLD OUT! JOIN THE WAITLIST \nDirected by Broadway Star & Playwright\, Lauren “Coco” Cohn (MAMMA MIA!\, FOUND) \nAll performers and attendees of this event must be fully vaccinated. \nVideo Audition Instructions: Sing a musical theatre song either a cappella or with a backing track. Click here for self-tape guidelines and video submission instructions. \nAlready on our advanced student list? No need to audition! Email us for your invite! \nThe COVID-19 pandemic hit our beloved Broadway community unexpectedly\, and hard. While many Broadway houses have reopened\, there are still many actors and theatres across the country who need our help! \nLet’s celebrate Broadway’s grand return\, and help actors and theatres who are experiencing financial distress post-pandemic. \nPerform solos or duets\nPerform solos or duets at the historic Triad Theatre in NYC on Monday\, March 7 to raise money and awareness for The Actor’s Fund. \nIf you are cast in the cabaret and would like to sing a duet with a friend or sibling\, please contact the office here. \nTickets for the performance are $49 (general admission) plus a 2 drink minimum. All performers are required to purchase 4 tickets. \nA portion of the proceeds will be donated to The Actors Fund. \nRehearsals: On Zoom or In-Person\n45-minute rehearsals take place either via Zoom or in-person in NYC. \n**Zoom rehearsals are free of charge. \n**If you prefer to rehearse in person\, we are offering a very deep discount on a private rehearsal session with our Broadway Director and Music Director. \nFor an additional $95\, work with Coco and Jon at our W. 72nd Street Studio. After registration\, you may sign up for a discounted in-person rehearsal. \nAges: 7-20s (fully vaccinated please)\nWhen: Monday\, March 7\nCall Time For Singers: 4 PM\nShow Time: 7:00 PM \nWhere: The Triad – 158 W. 72nd St. \n** There is a 2 drink minimum at the theatre** \nSOLD OUT! JOIN THE WAITLIST
URL:https://aclassactny.com/programs/broadways-back-cabaret-to-benefit-the-actors-fund-for-covid-19-relief/
CATEGORIES:Cabarets,Productions & Cabarets
ATTACH;FMTTYPE=image/png:https://aclassactny.com/wp-content/uploads/2021/11/WP-3-4-1.png
END:VEVENT
END:VCALENDAR