BEGIN:VCALENDAR
VERSION:2.0
PRODID:-//A Class Act NY - ECPv5.6.0//NONSGML v1.0//EN
CALSCALE:GREGORIAN
METHOD:PUBLISH
X-WR-CALNAME:A Class Act NY
X-ORIGINAL-URL:https://aclassactny.com
X-WR-CALDESC:Events for A Class Act NY
BEGIN:VTIMEZONE
TZID:America/New_York
BEGIN:DAYLIGHT
TZOFFSETFROM:-0500
TZOFFSETTO:-0400
TZNAME:EDT
DTSTART:20250309T070000
END:DAYLIGHT
BEGIN:STANDARD
TZOFFSETFROM:-0400
TZOFFSETTO:-0500
TZNAME:EST
DTSTART:20251102T060000
END:STANDARD
END:VTIMEZONE
BEGIN:VEVENT
DTSTART;TZID=America/New_York:20250429T173000
DTEND;TZID=America/New_York:20250429T193000
DTSTAMP:20260423T234416
CREATED:20250325T144859Z
LAST-MODIFIED:20250408T135229Z
UID:102826-1745947800-1745955000@aclassactny.com
SUMMARY:Broadway Star\, Christy Altomare’s Zoom Masterclass (ANASTASIA\, MAMMA MIA!\, CARRIE)
DESCRIPTION:No Audition Required | Ages 9 & Up | Tuesday\, Apr. 29 | Cost to Participate 195.00 | Cost to Observe 55.00 \nPERFORMANCE SPOTS SOLD OUT! JOIN THE WAITLIST TO PERFORM or PURCHASE AN OBSERVATION TICKET! \nLimited to 11 Students! \nChristy Altomare is best known for portraying the title character of Anya/Anastasia in the Broadway sensation\, ANASTASIA! Previous to ANASTASIA\, Christy played the lead role of Sophie in MAMMA MIA! and before that she played Sue Snell in the Off-Broadway cult hit\, CARRIE. \nFocus of Class:\n• Sing and receive individual feedback and coaching on your 32-bar song cut from Broadway’s Christy Altomare\n• Learn if your song showcases your unique personality and vocal range\n• Learn how to interpret a song and break it down into acting beats\n• Q&A with Broadway’s Christy Altomare \nAges: 9 & Up\nWhen: Tuesday\, Apr. 29\nTime: 5:30-7:30 PM ET\nCost to Participate: 195.00\nCost to Observe: 55.00 \n** Superstar session – credits and raffles cannot be applied toward this program \n  \nJOIN THE WAITLIST TO PERFORM or PURCHASE AN OBSERVATION TICKET
URL:https://aclassactny.com/programs/broadway-star-christy-altomares-zoom-masterclass-anastasia-mamma-mia-carrie/
LOCATION:Online via Zoom
CATEGORIES:Adult Workshops,Masterclasses,Musical Theatre Masterclasses,Online Workshops,Virtual One-Day Masterclasses
ATTACH;FMTTYPE=image/jpeg:https://aclassactny.com/wp-content/uploads/2025/03/WP-2025.jpg
GEO:40.7127753;-74.0059728
END:VEVENT
END:VCALENDAR