BEGIN:VCALENDAR
VERSION:2.0
PRODID:-//A Class Act NY - ECPv5.6.0//NONSGML v1.0//EN
CALSCALE:GREGORIAN
METHOD:PUBLISH
X-WR-CALNAME:A Class Act NY
X-ORIGINAL-URL:https://aclassactny.com
X-WR-CALDESC:Events for A Class Act NY
BEGIN:VTIMEZONE
TZID:America/New_York
BEGIN:DAYLIGHT
TZOFFSETFROM:-0500
TZOFFSETTO:-0400
TZNAME:EDT
DTSTART:20260308T070000
END:DAYLIGHT
BEGIN:STANDARD
TZOFFSETFROM:-0400
TZOFFSETTO:-0500
TZNAME:EST
DTSTART:20261101T060000
END:STANDARD
END:VTIMEZONE
BEGIN:VEVENT
DTSTART;TZID=America/New_York:20260714T173000
DTEND;TZID=America/New_York:20260714T203000
DTSTAMP:20260423T201431
CREATED:20260422T190642Z
LAST-MODIFIED:20260423T150307Z
UID:104354-1784050200-1784061000@aclassactny.com
SUMMARY:Broadway Casting Director Masterclass with Merri Sugarman (CSA) of The TRC Company (formerly Tara Rubin Casting)
DESCRIPTION:No Audition Required | Ages 9 – Adults | Tuesday\, Jul. 14 | 5:30-8:30 PM | Cost to Perform: 205.00 | Cost to Observe: 75.00 \nSing for Merri\, or observe to pick up new tips! \nWork one-on-one with Senior Casting Director\, Merri Sugarman (CSA) \nof The TRC Company\, formerly known as Tara Rubin Casting! TRC is the casting office behind Broadway and Off-Broadway hits and National Tours such as BOOP\, BUENA VISTA SOCIAL CLUB\, DEATH BECOMES HER\, DEAD OUTLAW\, SONDHEIM’S OLD FRIENDS\, THE OUTSIDERS\, THE WIZ\, BACK TO THE FUTURE\, SIX\, THE WHO’S TOMMY*\, WATER FOR ELEPHANTS\, THE HEART OF ROCK AND ROLL\, DEAR EVAN HANSEN*\, SING STREET*\, TREVOR THE MUSICAL*\, AIN’T TOO PROUD\, ALADDIN*\, PHANTOM OF THE OPERA\, CHASING RAINBOWS*\, LES MISERABLES*\, AIDA\, THE BAND’S VISIT\, MISS SAIGON*\, SCHOOL OF ROCK*\, KING KONG\, FALSETTOS*\, A BRONX TALE\, and many other shows too numerous to mention here! \n*We’re proud to have A.C.A.N.Y. students in the casts of many of these productions — check out our social media Instagram or Facebook for highlights\, or our outdated Student Achievement Page! \nStudents participating in this class perform a 32-bar cut of a musical theatre song with an accompanist. \nGet Merri’s expert coaching and feedback on your pieces! \n\nShe will also offer her opinion on whether or not your material showcases your unique talent\, vocal range and personality. \nFocus of Class:\n• Sing and receive individual feedback and coaching on your song cut from TRC Casting Director\, Merri Sugarman\n • Learn if your piece is a good choice for you and showcases your unique talent\, vocal range and personality\n• Learn how to put your best foot forward in auditions\n• Q&A with Merri about the ins-and-outs of the business \nThis workshop is for educational purposes only and cannot and will not be treated as an audition. \nAges: 9 – Adults (Email us for an age exception)\nWhen: Tuesday\, Jul. 14\nTime: 5:30-8:30 PM\nWhere: Ripley-Grier Studios – 520 8th Ave\nCost to Perform: 205.00\nCost to Observe: 75.00 \n \n  \nCLICK TO REGISTER
URL:https://aclassactny.com/programs/broadway-casting-director-masterclass-with-merri-sugarman-csa-of-the-trc-company-formerly-tara-rubin-casting-3/
LOCATION:Ripley-Grier Studios\, 520 8th Ave.\,\, New York\, NY\, 10018
CATEGORIES:Adult Workshops,Masterclasses,Musical Theatre Masterclasses,Musical Theatre Workshops,New York City,One-Day Workshops
ATTACH;FMTTYPE=image/png:https://aclassactny.com/wp-content/uploads/2026/04/merri-sugarman-July-14-masterclass-1.png
GEO:40.753615;-73.9920415
X-APPLE-STRUCTURED-LOCATION;VALUE=URI;X-ADDRESS=Ripley-Grier Studios 520 8th Ave. New York NY 10018;X-APPLE-RADIUS=500;X-TITLE=520 8th Ave.\,:geo:-73.9920415,40.753615
END:VEVENT
END:VCALENDAR