BEGIN:VCALENDAR
VERSION:2.0
PRODID:-//A Class Act NY - ECPv5.6.0//NONSGML v1.0//EN
CALSCALE:GREGORIAN
METHOD:PUBLISH
X-WR-CALNAME:A Class Act NY
X-ORIGINAL-URL:https://aclassactny.com
X-WR-CALDESC:Events for A Class Act NY
BEGIN:VTIMEZONE
TZID:America/New_York
BEGIN:DAYLIGHT
TZOFFSETFROM:-0500
TZOFFSETTO:-0400
TZNAME:EDT
DTSTART:20240310T070000
END:DAYLIGHT
BEGIN:STANDARD
TZOFFSETFROM:-0400
TZOFFSETTO:-0500
TZNAME:EST
DTSTART:20241103T060000
END:STANDARD
END:VTIMEZONE
BEGIN:VEVENT
DTSTART;VALUE=DATE:20240522
DTEND;VALUE=DATE:20240523
DTSTAMP:20260420T121911
CREATED:20231117T225042Z
LAST-MODIFIED:20240514T142821Z
UID:100591-1716336000-1716422399@aclassactny.com
SUMMARY:Agent & Manager Showcase w/ 20 Talent Reps: In-Studio or Via Zoom
DESCRIPTION:No Audition Required | Ages: 4 – Mid 20s | Wednesday\, May 22 | Cost: 385.00 \nPayment Plans Available at Checkout! Or\, if you need a custom plan\, email us or call (212) 315-3010. \nSOLD OUT! JOIN THE WAITLIST \nIt’s often challenging to get in front of Talent Agents and Managers. A Class Act NY’s industry showcases provide aspiring actors the unbelievable opportunity to perform for 20 scouting agents & managers in one evening. \nPrevious participants are now working professionally! Many are booking television series\, films\, voice-overs\, commercials and Broadway shows. Click here to read about some of our students’ professional progress. \nThe biggest agencies and management firms in town attend our showcases including CESD\, Stewart Talent\, DDO Artists\, Zuri\, Carson Kolker\, Parkside Management\, Avalon Artists\, Calli & Co. Entertainment and many more. \nThe Showcase Includes:\n• The chance to perform in the audition room for 20 Scouting Agents & Managers either In-Person or via Zoom\n• A 50-minute virtual coaching session with:\n     • Non-Singers: A Broadway/TV/Film Coach\n     • Singers: A Broadway/TV/Film Coach and a Broadway Music Director  \n** An in-person coaching is available for an additional $125 fee. \nThe coaches run your material with you\, offer insightful feedback and instruction\, and also offer their expert opinion on how to best prepare for your showcase performance. \nBelow is what you will be expected to perform for the talent reps! You should be off-book (meaning fully memorized) for your coaching and on the night of the showcase! \nPerformance Requirements\nAges 4-6:\n• Actors between 4 – 6 years old will perform a commercial. After registration\, we will send you a commercial. Parents: the talent reps understand that your child is young. They can tell a lot from a commercial read and how focused your child is during the audition. They will be looking at your child for theatre\, film\, TV\, and voice-over representation\, and if you are local to NYC (meaning\, 2 hours by car or train)\, they will also be considering your child for commercials and commercial print work. No exceptions: your child MAY NOT sing or perform a monologue in our showcase unless they are turning 7 in the next 2 months. \nAges 7 and Over – Non-Singers:\n• If you are seeking legit representation (theatre\, film\, TV)\, and you are a non-singer\, you will perform a one-minute monologue. You are responsible for bringing in your own monologue. If you need help finding a monologue\, please sign up for a monologue research lesson (This is at an additional cost). \nAges 7 and Over – Singers:\n• If you are a singer who is looking for legit representation (theatre\, film\, TV)\, you will sing a 16-bar cut\, and perform a one-minute monologue. If you need help finding a monologue\, please sign up for a monologue research lesson (This is at an additional cost). If you need help finding a 16-bar cut\, please sign up for a vocal coaching session (Also at an additional cost). If you are zooming in\, you must perform with a track. \nActors Seeking Voice-Over & Commercial Rep ONLY:\n• If you already have legit representation or are only interested in seeking a voice-over\, commercial and commercial print agent or manager\, please indicate so on your registration form\, and you will be assigned a voice-over commercial at your coaching session. \nAll actors must check in by 5:30 PM ET the night of the showcase for a warm-up and important announcements. \nMonologues MUST be from a contemporary published play. Not from a monologue book\, musical or film or tv series. If you need help finding a monologue\, please contact the office and set up a monologue research lesson. \nHEADSHOTS/RESUMES:\nAll performers must provide a digital version of their headshot and resume in advance. More details will be sent via email after registration. \nAges: 4-20s\nWhen: Wednesday\, May 22\nCall Time: 5:30 PM ET\nVirtual/In-Person Private 50 Minute Lessons: Scheduled based on instructor and performer availability.\nWhere: Ripley-Grier Studios – 520 8th Ave OR Via Zoom\nCost: 385.00 \n  \n   \nJOIN THE WAITLIST
URL:https://aclassactny.com/programs/agent-manager-showcase-w-20-talent-reps-in-studio-or-via-zoom-4/
LOCATION:Via Zoom or Ripley-Grier Studios\, 520 8th Ave\, New York\, NY
CATEGORIES:Agent & Industry Pro Showcases,Industry Showcase Ages 4 - mid 20s,Online Classes,Virtual Agent & Industry Showcases
ATTACH;FMTTYPE=image/png:https://aclassactny.com/wp-content/uploads/2023/11/in-person-showcase.png
GEO:40.7529813;-73.9925318
X-APPLE-STRUCTURED-LOCATION;VALUE=URI;X-ADDRESS=Via Zoom or Ripley-Grier Studios 520 8th Ave New York NY;X-APPLE-RADIUS=500;X-TITLE=520 8th Ave:geo:-73.9925318,40.7529813
END:VEVENT
END:VCALENDAR