BEGIN:VCALENDAR
VERSION:2.0
PRODID:-//A Class Act NY - ECPv5.6.0//NONSGML v1.0//EN
CALSCALE:GREGORIAN
METHOD:PUBLISH
X-WR-CALNAME:A Class Act NY
X-ORIGINAL-URL:https://aclassactny.com
X-WR-CALDESC:Events for A Class Act NY
BEGIN:VTIMEZONE
TZID:America/New_York
BEGIN:DAYLIGHT
TZOFFSETFROM:-0500
TZOFFSETTO:-0400
TZNAME:EDT
DTSTART:20240310T070000
END:DAYLIGHT
BEGIN:STANDARD
TZOFFSETFROM:-0400
TZOFFSETTO:-0500
TZNAME:EST
DTSTART:20241103T060000
END:STANDARD
END:VTIMEZONE
BEGIN:VEVENT
DTSTART;TZID=America/New_York:20240120T110000
DTEND;TZID=America/New_York:20240601T123000
DTSTAMP:20260423T201831
CREATED:20231020T185322Z
LAST-MODIFIED:20240423T195933Z
UID:100441-1705748400-1717245000@aclassactny.com
SUMMARY:12-Week LION KING KIDS Class
DESCRIPTION:No Audition Required | Elementary School-Age Children (Email us for an age exception) | Saturdays\, Jan. 20; Feb. 3\, 10; Mar. 2\, 9\, 16; Apr. 6\, 13; May 4\, 11\, 18; Jun. 1 | 11 AM – 12:30 PM | 11-Week Prorated Cost: 820.00 \nPayment Plans Available at Checkout\, or if you need a custom plan\, email us or call (212) 315-3010 \nInstructor: Professional Actor\, Director & Voice Teacher\, Rebecca O’Sullivan (GILBERT & SULLIVAN PLAYERS\, INTO THE WOODS JR\, BEAUTY & THE BEAST JR\, HIGH SCHOOL MUSICAL JR) \nHone your musical theatre chops in this super fun and educational class that culminates in an in-studio performance of the beloved musical\, THE LION KING! \nLearn lines\, songs\, and dance numbers from the show! \nPerform popular songs such as “I Just Can’t Wait to Be King\,” “He Lives in You\,” and “Hakuna Matata.”  \nBring the African savanna to life with Simba\, Rafiki and an unforgettable cast of characters as they journey from Pride Rock to the jungle and back again in this inspiring\, coming-of-age tale. \nThe first class will be dedicated to getting acquainted with one another through fun warm-ups and exercises. Roles will be assigned in the second class. \nFinal Showcase:\nClass culminates in a final performance in the studio for loved ones and a few scouting talent reps! \nAges: Elementary School-Age Children – email us for an age exception!\nWhen: Saturdays\, Jan. 20; Feb. 3\, 10; Mar. 2\, 9\, 16; Apr. 6\, 13; May 4\, 11\, 18; Jun. 1\n(No Class January 27\, February 17\, 24\, March 23\, March 30\, April 20\, April 27\, May 25) \nTime:11 AM – 12:30 PM\nWhere: Pearl Studios – 500 8th Ave\, NYC\n11-Week Prorated Cost: 820.00 – payment plans available at checkout\, or if you need a custom plan\, email us or call (212) 315-3010 \n  \nCLICK TO REGISTER
URL:https://aclassactny.com/programs/12-week-lion-king-kids-class/
LOCATION:Pearl Studios\, 500 8th Ave.\, New York\, NY\, NY\, 10018
CATEGORIES:All Skill Level Classes,Musical Theatre Classes,Weekly Classes
ATTACH;FMTTYPE=image/jpeg:https://aclassactny.com/wp-content/uploads/2024/01/IMG_7250.jpg
GEO:40.7529813;-73.9925318
X-APPLE-STRUCTURED-LOCATION;VALUE=URI;X-ADDRESS=Pearl Studios 500 8th Ave. New York NY NY 10018;X-APPLE-RADIUS=500;X-TITLE=500 8th Ave.:geo:-73.9925318,40.7529813
END:VEVENT
END:VCALENDAR